BEGIN:VCALENDAR
VERSION:2.0
PRODID:-//Marcy Stahl - ECPv5.14.1//NONSGML v1.0//EN
CALSCALE:GREGORIAN
METHOD:PUBLISH
X-WR-CALNAME:Marcy Stahl
X-ORIGINAL-URL:https://marcystahl.com
X-WR-CALDESC:Events for Marcy Stahl
BEGIN:VTIMEZONE
TZID:America/Halifax
BEGIN:DAYLIGHT
TZOFFSETFROM:-0400
TZOFFSETTO:-0300
TZNAME:ADT
DTSTART:20190310T060000
END:DAYLIGHT
BEGIN:STANDARD
TZOFFSETFROM:-0300
TZOFFSETTO:-0400
TZNAME:AST
DTSTART:20191103T050000
END:STANDARD
END:VTIMEZONE
BEGIN:VEVENT
DTSTART;TZID=America/Halifax:20190917T090000
DTEND;TZID=America/Halifax:20190917T103000
DTSTAMP:20260420T054636
CREATED:20190911T161346Z
LAST-MODIFIED:20190911T161346Z
UID:1074-1568710800-1568716200@marcystahl.com
SUMMARY:Business Women's Networking
DESCRIPTION:Marcy Stahl – Business Coach – Embody Your Value: 4 Key Skills Every Business Woman Needs for Confidence and Success in Your Career \nJoin The Business Women’s Network for an educational morning and welcome our guest speaker Marcy Stahl\, Business Coach\, who’s focus is Helping Women Entrepreneurs Feel More Confident\, Attract More Clients and Have More Fun! \nOur Topic: Embody Your Value: 4 Key Skills Every Business Woman Needs for Confidence and Success in Your Career (Smart men are welcome to attend 🙂 \nBusinesswomen of all kinds (corporate and entrepreneurs) will learn how to increase self-confidence\, from the inside out\, through thoughts\, language and body language. \n• Communicate your ideas in ways that increase your listeners’ understanding\, thus increasing your impact \n• Demonstrate body language which conveys your confidence (and helps you feel it from the inside out) \n• Gain awareness of how your thoughts are constantly influencing your actions\, for better or worse\, and how you can move the dial to “for better” \nAbout Marcy:marcy@marcystahl.com http://marcystahl.com \nMarcy is passionate about helping women- Discover their unique abilities \n– Break through limiting beliefs \n– Experience more confidence\, more impact\, & more income \nHer client results include \n– Tripling their income \n– Doubling their personal sales \n– Becoming more confident and effective team leaders \nHer qualifications include \n– Co-founder of a Government Contracting Firm that earned more than $1M in annual revenue \n– Co-Author\, Direct Selling Power \n– Graduate of the Direct Selling Women’s Alliance (DSWA) Coaching School \n– Member of the John Maxwell Team Training Program \n– B.S. and M.S. in Computer Science \n– Past co-President of Business and Professional Women/Triangle chapter and past President of Women in Networking-N. Raleigh chapter.
URL:https://marcystahl.com/event/business-womens-networking/
LOCATION:First Baptist Church-Mebane\, 301 South Third Street\, Mebane\, NC\, 27302\, United States
ATTACH;FMTTYPE=image/jpeg:https://marcystahl.com/wp-content/uploads/2019/09/Marcy-Sales-Skills.jpg
END:VEVENT
END:VCALENDAR